BEGIN:VCALENDAR
VERSION:2.0
PRODID:-//Magzoid Magazine - ECPv6.15.20//NONSGML v1.0//EN
CALSCALE:GREGORIAN
METHOD:PUBLISH
X-ORIGINAL-URL:https://magzoid.com
X-WR-CALDESC:Events for Magzoid Magazine
REFRESH-INTERVAL;VALUE=DURATION:PT1H
X-Robots-Tag:noindex
X-PUBLISHED-TTL:PT1H
BEGIN:VTIMEZONE
TZID:UTC
BEGIN:STANDARD
TZOFFSETFROM:+0000
TZOFFSETTO:+0000
TZNAME:UTC
DTSTART:20230101T000000
END:STANDARD
END:VTIMEZONE
BEGIN:VEVENT
DTSTART;VALUE=DATE:20241219
DTEND;VALUE=DATE:20241222
DTSTAMP:20260425T122722
CREATED:20241220T095511Z
LAST-MODIFIED:20241220T100122Z
UID:78243-1734566400-1734825599@magzoid.com
SUMMARY:Russian Film Festival
DESCRIPTION:Experience the magic of Russian cinema at the Russian Film Festival in Dubai from December 19th to December 21st\, 2024. Held in the heart of Dubai\, this festival offers free screenings of five captivating films\, including the UAE premiere of the inspiring sports drama Triumph. Enjoy other cinematic masterpieces like The Challenge\, Chebi: My Fluffy Friend\, Guest from the Future\, and The Bremen Town Musicians. Organized by ROSKINO with the support of the Russian Ministry of Culture\, the festival transcends borders with Russian-language films featuring English subtitles\, ensuring a vibrant cultural exchange. Dive into extraordinary storytelling\, meet acclaimed creators like director Mikhail Lukachevsky\, and celebrate the growing success of Russian cinema in the UAE. \nDate:  19-21 December 2024\nVenue: Roxy Cinemas Dubai\, City Walk\nEvent Website: Russian-Film-Festival.com \nFor PRs: pr@magzoid.com\nPartnerships\, Interviews & Marketing Support: sakshi@magzoid.com\nFor General Queries: info@magzoid.com
URL:https://magzoid.com/event/russian-film-festival/
LOCATION:Roxy Cinemas Dubai\, City Walk
CATEGORIES:Entertainment
ATTACH;FMTTYPE=image/png:https://magzoid.com/wp-content/uploads/2024/12/Screenshot-2024-12-20-150927.png
END:VEVENT
BEGIN:VEVENT
DTSTART;VALUE=DATE:20241220
DTEND;VALUE=DATE:20250106
DTSTAMP:20260425T122722
CREATED:20241221T104514Z
LAST-MODIFIED:20241221T121721Z
UID:78329-1734652800-1736121599@magzoid.com
SUMMARY:Immersive Hong Kong
DESCRIPTION:Discover the vibrant allure of Hong Kong at the “Immersive Hong Kong” Exhibition\, now open in Dubai\, UAE! Making its fifth international stop after enthralling audiences in Jakarta\, Bangkok\, Kuala Lumpur\, and Guangzhou\, this exhibition showcases Hong Kong’s attractions\, opportunities\, and innovative spirit. \nOrganised by the Information Services Department of the Hong Kong Special Administrative Region Government in partnership with the Hong Kong Economic and Trade Office in Dubai\, the exhibition invites visitors to explore Hong Kong’s potential for tourism\, business\, and investment under the theme\, “Hong Kong – Where the World Looks Ahead.” \nStep into six immersive zones highlighting Hong Kong’s world-class strengths\, from its global financial hub status to its creative arts\, sustainability efforts\, and upcoming sports megaprojects. With interactive exhibits\, naked-eye 3D installations\, and engaging photo opportunities\, this experience is a feast for the senses. \nDon’t miss live performances from December 20 to 22\, including a street dance showcase by Move Beyond and a pop concert by SENZA A Cappella. Plus\, join the “Snap a Cool Shot @Immersive Hong Kong” contest for a chance to win round-trip tickets to Hong Kong! \nDate: 20 December 2024 – 05 January 2025\nVenue: JBR\, Dubai (Near Roxy Cinema)\nEvent Website: Immersive-Hong-Kong.com\nEntry Fee: Free (Walk-In) \nFor PRs: pr@magzoid.com\nPartnerships\, Interviews & Marketing Support: sakshi@magzoid.com\nFor General Queries: info@magzoid.com
URL:https://magzoid.com/event/immersive-hong-kong/
LOCATION:JBR\, Dubai (Near Roxy Cinema)
CATEGORIES:Exhibition
ATTACH;FMTTYPE=image/jpeg:https://magzoid.com/wp-content/uploads/2024/12/WhatsApp-Image-2024-12-21-at-3.39.46-PM-1-scaled.jpeg
END:VEVENT
END:VCALENDAR