BEGIN:VCALENDAR
VERSION:2.0
PRODID:-//Magzoid Magazine - ECPv6.15.20//NONSGML v1.0//EN
CALSCALE:GREGORIAN
METHOD:PUBLISH
X-ORIGINAL-URL:https://magzoid.com
X-WR-CALDESC:Events for Magzoid Magazine
REFRESH-INTERVAL;VALUE=DURATION:PT1H
X-Robots-Tag:noindex
X-PUBLISHED-TTL:PT1H
BEGIN:VTIMEZONE
TZID:UTC
BEGIN:STANDARD
TZOFFSETFROM:+0000
TZOFFSETTO:+0000
TZNAME:UTC
DTSTART:20240101T000000
END:STANDARD
END:VTIMEZONE
BEGIN:VEVENT
DTSTART;TZID=UTC:20250222T120000
DTEND;TZID=UTC:20250222T220000
DTSTAMP:20260424T161241
CREATED:20250214T133139Z
LAST-MODIFIED:20250214T172827Z
UID:82744-1740225600-1740261600@magzoid.com
SUMMARY:Holi Beach Party 2025
DESCRIPTION:Get ready for the most vibrant and exhilarating celebration of the year at the Holi Beach Party 2025 in Dubai! Set against the breathtaking backdrop of a pristine beachfront\, this festival of colors will be an unforgettable fusion of music\, dance\, and festive joy\, bringing people together in a spectacular celebration of unity and happiness. \nImmerse yourself in the electrifying energy of live DJ performances\, featuring top Bollywood\, EDM\, and fusion beats that will keep the party going all day long. Dance under the sun with colorful powder throws\, creating a mesmerizing kaleidoscope of colors in the air. The event will feature an exciting lineup of entertainment acts\, including live dhol performances\, cultural showcases\, and interactive games\, ensuring a thrilling experience for all attendees. \nIndulge in a variety of delicious festival treats\, from Indian street food to refreshing beverages\, perfectly complementing the festive spirit. With dedicated fun zones\, water activities\, and beachside lounges\, Holi Beach Party 2025 offers something for everyone—whether you’re looking to dance the day away\, relax by the shore\, or capture picture-perfect moments with friends and family. \nAs one of Dubai’s most anticipated Holi celebrations\, this event is the perfect blend of tradition and modern entertainment\, welcoming partygoers from all backgrounds to revel in the colors of joy. Whether you’re a Holi enthusiast or experiencing it for the first time\, this beachside extravaganza promises an unmatched celebration like no other. \nSo\, gather your crew\, put on your brightest whites\, and get ready to splash into the spirit of Holi with music\, dance\, colors\, and an atmosphere brimming with excitement. Holi Beach Party 2025 is where the festival of colors meets the thrill of the beach—don’t miss out! \nDate: 22 February\, 2025\nVenue: Park Regis Prince Dubai Islands\nEvent Website: Event Website\nTo Attend: Register Now \nWe are happy to support Holi Beach Party 2025 as a Media Partner.\nFor PRs: pr@magzoid.com\nPartnerships\, Interviews & Marketing Support: sakshi@magzoid.com\nFor General Queries: info@magzoid.com
URL:https://magzoid.com/event/holi-beach-party-2025/
LOCATION:Park Regis Prince Dubai Islands
CATEGORIES:Entertainment
ATTACH;FMTTYPE=image/jpeg:https://magzoid.com/wp-content/uploads/2025/02/HOLI-BEACH-PARTY-2025_22ndFeb_EventListing.jpg
END:VEVENT
END:VCALENDAR