BEGIN:VCALENDAR
VERSION:2.0
PRODID:-//Magzoid Magazine - ECPv6.15.20//NONSGML v1.0//EN
CALSCALE:GREGORIAN
METHOD:PUBLISH
X-WR-CALNAME:Magzoid Magazine
X-ORIGINAL-URL:https://magzoid.com
X-WR-CALDESC:Events for Magzoid Magazine
REFRESH-INTERVAL;VALUE=DURATION:PT1H
X-Robots-Tag:noindex
X-PUBLISHED-TTL:PT1H
BEGIN:VTIMEZONE
TZID:UTC
BEGIN:STANDARD
TZOFFSETFROM:+0000
TZOFFSETTO:+0000
TZNAME:UTC
DTSTART:20240101T000000
END:STANDARD
END:VTIMEZONE
BEGIN:VEVENT
DTSTART;VALUE=DATE:20250618
DTEND;VALUE=DATE:20250621
DTSTAMP:20260424T074856
CREATED:20240927T115958Z
LAST-MODIFIED:20240927T154353Z
UID:70786-1750204800-1750463999@magzoid.com
SUMMARY:BeautyEurasia 2025
DESCRIPTION:BeautyEurasia has been a leading platform in the cosmetics\, beauty\, and personal care industries for over 20 years\, offering a premier exhibition experience for businesses to connect with buyers and professionals in their target markets. As a unique marketing tool\, BeautyEurasia addresses gaps that traditional methods fail to fill\, particularly for small and emerging businesses. BeautyEurasia 2025 provides an unparalleled opportunity for these businesses to engage in global interactions\, which would otherwise be difficult to achieve with limited resources. For established and large-scale companies\, BeautyEurasia serves as a platform to strengthen relationships\, enhance brand image\, and explore new market opportunities. \nExhibitions like BeautyEurasia excel in creating a B2B environment where supply meets demand\, allowing for direct engagement that other marketing channels cannot match. One of the key advantages of such exhibitions is the ability for attendees to examine products in person\, providing a tangible experience that builds trust and facilitates better decision-making. \nHaving earned a reputation as a focal point in the industries it serves\, BeautyEurasia is favored by companies aiming to make a significant impact on their annual goals within just a few days. Exhibitors can gain valuable insights into the competitive landscape\, make product comparisons\, and strategically position themselves within their respective markets. Through its high-quality exhibitions\, BeautyEurasia offers businesses a comprehensive platform for growth\, positioning\, and networking on a global scale\, proving to be a critical tool for achieving business objectives. \nDate:  18-20 June\, 2025\nVenue: Istanbul Expo Center\nEvent Website: Event Website\nTo Attend: Register Now \nExhibiting Opportunity: Book a Stand  \nWe are happy to support BeautyEurasia 2025 as a Media Partner.\nFor PRs: pr@magzoid.com\nPartnerships\, Interviews & Marketing Support: sakshi@magzoid.com\nFor General Queries: info@magzoid.com
URL:https://magzoid.com/event/beautyeurasia-2025/
LOCATION:Istanbul Expo Center
CATEGORIES:Exhibition
ATTACH;FMTTYPE=image/png:https://magzoid.com/wp-content/uploads/2024/09/BEAUTYEURASIA_18thJun_EventBanner.png
END:VEVENT
END:VCALENDAR