BEGIN:VCALENDAR
VERSION:2.0
PRODID:-//Magzoid Magazine - ECPv6.15.20//NONSGML v1.0//EN
CALSCALE:GREGORIAN
METHOD:PUBLISH
X-ORIGINAL-URL:https://magzoid.com
X-WR-CALDESC:Events for Magzoid Magazine
REFRESH-INTERVAL;VALUE=DURATION:PT1H
X-Robots-Tag:noindex
X-PUBLISHED-TTL:PT1H
BEGIN:VTIMEZONE
TZID:UTC
BEGIN:STANDARD
TZOFFSETFROM:+0000
TZOFFSETTO:+0000
TZNAME:UTC
DTSTART:20240101T000000
END:STANDARD
END:VTIMEZONE
BEGIN:VEVENT
DTSTART;TZID=UTC:20251116T183000
DTEND;TZID=UTC:20251116T220000
DTSTAMP:20260423T235145
CREATED:20250909T081452Z
LAST-MODIFIED:20250909T081452Z
UID:99383-1763317800-1763330400@magzoid.com
SUMMARY:BASSEM YOUSSEF LIVE IN DUBAI
DESCRIPTION:Internationally celebrated Egyptian-American comedian and satirist\, Bassem Youssef\, is set to return to Dubai for a one-night-only comedy performance on November 16\, 2025\, at Coca-Cola Arena. Known as the “Egyptian Jon Stewart\,” Youssef’s journey from heart surgeon in Cairo to global satirical voice is as compelling as his comedy itself. \nRising to prominence during the Arab Spring\, Youssef hosted the largest satire show in the Arab world before his fearless humour led to political backlash\, interrogation\, and eventual relocation to the United States. Since then\, he has built a global reputation as one of the most distinctive comedic voices\, blending sharp political satire with deeply personal storytelling. \nIn Bassem Youssef Live\, audiences can expect an evening of laughter\, reflection\, and thought-provoking perspectives. The show will explore themes of identity\, resilience\, and the absurdities of both politics and everyday life. Delivered in English\, the performance is a perfect fit for Dubai’s diverse and multicultural audience. \nPresented by Blu Blood Entertainment with the support of Dubai Calendar\, this event promises to be both entertaining and inspiring. \nTimings: 6:30 pm onwards\nDate: 16th November\, 2025\nVenue: Coca-Cola Arena\, Dubai\, UAE\nEvent Website: www.blublood.com\nGet Tickets Now: Coca-Cola Arena \nTicket Type:\nRoyal: AED 750/-\nPlatinum: AED 550/-\nDiamond: AED 450/-\nGold: AED 350/-\nSilver L1: AED 250/-\nBronze L1: AED 180/- \nWe are happy to support BASSEM YOUSSEF LIVE as a Media Partner.\nFor PRs: pr@magzoid.com\nPartnerships\, Interviews & Marketing Support: ashish@mcfillmedia.com\nFor General Queries: info@magzoid.com
URL:https://magzoid.com/event/bassem-youssef-live-in-dubai/
LOCATION:Coca-Cola Arena\, Dubai
CATEGORIES:Entertainment,Event
ATTACH;FMTTYPE=image/jpeg:https://magzoid.com/wp-content/uploads/2025/09/1200x628.jpg
END:VEVENT
END:VCALENDAR