BEGIN:VCALENDAR
VERSION:2.0
PRODID:-//Magzoid Magazine - ECPv6.15.20//NONSGML v1.0//EN
CALSCALE:GREGORIAN
METHOD:PUBLISH
X-ORIGINAL-URL:https://magzoid.com
X-WR-CALDESC:Events for Magzoid Magazine
REFRESH-INTERVAL;VALUE=DURATION:PT1H
X-Robots-Tag:noindex
X-PUBLISHED-TTL:PT1H
BEGIN:VTIMEZONE
TZID:UTC
BEGIN:STANDARD
TZOFFSETFROM:+0000
TZOFFSETTO:+0000
TZNAME:UTC
DTSTART:20250101T000000
END:STANDARD
END:VTIMEZONE
BEGIN:VEVENT
DTSTART;VALUE=DATE:20260107
DTEND;VALUE=DATE:20260401
DTSTAMP:20260423T114044
CREATED:20260302T160403Z
LAST-MODIFIED:20260302T160403Z
UID:107737-1767744000-1775001599@magzoid.com
SUMMARY:ROOFLINE by DIFC
DESCRIPTION:Taking place at the rooftop podium levels of Dubai International Financial Centre\, ROOFLINE is a limited-time\, open-air rooftop experience bringing together homegrown dining\, culture\, and creative energy in an elevated social setting. Spanning the connecting podium levels between DIFC Gate District and Gate Avenue at DIFC\, the event creates a seamless\, walkable rooftop destination at the heart of the district. \nDesigned as a community-driven social platform\, ROOFLINE celebrates local creativity through a rotating programme of homegrown concepts\, pop-ups\, and curated entertainment that encourage exploration and discovery throughout the season. \nThe line-up features a rotating mix of homegrown brands including FLTR\, The Uncommon\, IYKYK\, Karak House\, Rascals\, Badou\, and Beau Burger\, alongside seasonal pop-ups and live cultural activations. \nPositioned above the city’s business and lifestyle hub\, ROOFLINE offers an informal yet curated gathering space where food\, music\, and creative programming come together—transforming DIFC’s rooftops into a vibrant destination for connection\, culture\, and community. \nVenue: Rooftop podium levels between Gate District and Gate Avenue\, Dubai International Financial Centre (DIFC)\, DubaiFormat: Limited-time\, open-air rooftop event\nDates: 7 January to 31 March 2026 \nPlease feel free to reach out if you need any help:\nFor PRs: ayushi@mcfillmedia.com\nPartnerships\, Interviews & Marketing Support: ashish@mcfillmedia.com\nFor General Queries: info@thefinanceworld.com
URL:https://magzoid.com/event/roofline-by-difc/
LOCATION:Dubai International Financial Centre\, Dubai\, United Arab Emirates
CATEGORIES:Event
ATTACH;FMTTYPE=image/jpeg:https://magzoid.com/wp-content/uploads/2026/03/Screenshot-840-Cropped-1.jpg
END:VEVENT
BEGIN:VEVENT
DTSTART;VALUE=DATE:20260302
DTEND;VALUE=DATE:20260401
DTSTAMP:20260423T114044
CREATED:20260302T161344Z
LAST-MODIFIED:20260302T161344Z
UID:107746-1772409600-1775001599@magzoid.com
SUMMARY:The Little Things DIFC pop-up
DESCRIPTION:Taking place at Gate Avenue at DIFC\, within the Dubai International Financial Centre\, The Little Things brings its world of authentic collectibles to the heart of Dubai\, inviting fans of all ages to reconnect with nostalgia and discover new fandoms. \nFrom iconic childhood favourites to carefully sourced global collectibles\, each piece is thoughtfully selected to spark emotion\, connection\, and joy. The pop-up celebrates the culture of collecting through a curated mix of familiar memories and new discoveries drawn from international fandom communities. \nGuided by the brand’s mantra\, “Unlock worlds you’ve never seen”\, the experience offers a fresh perspective on collecting—where storytelling\, design\, and community come together in a welcoming and playful retail environment. Fans\, seasoned collectors\, and first-time visitors are invited to explore a space created to inspire curiosity\, connection\, and shared moments. \nOpen daily until: 31 March 2026Venue: Gate Avenue\, Dubai International Financial Centre (DIFC)\, Dubai \nPlease feel free to reach out if you need any help:\nFor PRs: ayushi@mcfillmedia.com\nPartnerships\, Interviews & Marketing Support: ashish@mcfillmedia.com\nFor General Queries: info@thefinanceworld.com
URL:https://magzoid.com/event/the-little-things-difc-pop-up/
LOCATION:Dubai International Financial Centre\, Dubai\, United Arab Emirates
CATEGORIES:Event
ATTACH;FMTTYPE=image/jpeg:https://magzoid.com/wp-content/uploads/2026/03/Screenshot-842-Cropped-1.jpg
END:VEVENT
BEGIN:VEVENT
DTSTART;VALUE=DATE:20260302
DTEND;VALUE=DATE:20260601
DTSTAMP:20260423T114044
CREATED:20260302T155421Z
LAST-MODIFIED:20260302T160534Z
UID:107725-1772409600-1780271999@magzoid.com
SUMMARY:DIFC Sculpture Park 4th Edition
DESCRIPTION:Taking place at the open-air DIFC Sculpture Park\, located within the Dubai International Financial Centre\, the annual sculpture exhibition presents more than 50 artworks by 27 renowned artists representing 13 nationalities from the Middle East\, Europe and Asia. Open to the public until 31 May 2026\, the exhibition transforms the heart of Dubai into a curated cultural destination where large-scale works unfold across public space. \nThis year’s edition invites audiences to experience how art begins with raw materials and leaves a lasting trace across space\, time and memory\, creating a dynamic dialogue between contemporary practice and the urban environment. \nExploring Transformation\, Memory and Endurance\nThe 2025–2026 programme considers how art endures in a world shaped by constant change—focusing on transformation\, resonance and the quiet endurance of form. Through sculptural works that explore both presence and absence\, the exhibition reflects on how traces linger in material\, sound and space\, revealing the marks of memory and time. \nAcross the outdoor setting\, the works examine the tension between fragility and permanence\, offering visitors a contemplative journey through shifting narratives of place\, identity and materiality. \nA Public Platform for International Galleries and Artists\nThe exhibition brings together an international network of galleries and creative practitioners\, reinforcing DIFC’s growing role as a regional hub for public art and cultural exchange. By activating open public spaces\, the programme makes contemporary sculpture accessible to a wider audience while encouraging meaningful engagement with art beyond traditional gallery walls. \nParticipating Galleries \nAisha Al Abbar GalleryRuya Art GalleryAndakulova GalleryHMA LivingKart GroupLeila Heller GalleryThe Embassy of ArtValue ArtBalArt ConsultancyFabien FrynsIN StudioMatti Sirvio Art GalleriaOman Design AssociationRarares GallerySputnik PartnersStudio NousNous \nParticipating Artists \nAnetta SzaboAnna ChekhAntonio La RosaArmin NajibDavide CascioEduardo EnriqueElena RedeEmiliano ColettaEvelyn Brader FrankJery KedzioraJian HengLeila PazookiMarina FedorovaMarion SulaMorteza KhosraviMustafa AykurtMustafa KhamashNatalie KatwalPaulina DomagalskaRuqaya Al HashmiSalim Al KaabiUnus SafardiarXavier MagaldiYuemin Tian \nDiscover DIFC Sculpture Park — where every artwork carries a story shaped by material\, memory and time. \nOpen for public viewing until: 31 May 2026Venue: DIFC Sculpture Park\, Dubai International Financial Centre\, Dubai \nPlease feel free to reach out if you need any help:\nFor PRs: ayushi@mcfillmedia.com\nPartnerships\, Interviews & Marketing Support: ashish@mcfillmedia.com\nFor General Queries: info@thefinanceworld.com
URL:https://magzoid.com/event/difc-sculpture-park-4th-edition/
LOCATION:DIFC Sculpture Park\, 678J+6H3 - Zaa'beel Second - DIFC\, Dubai\, United Arab Emirates
CATEGORIES:Event
ATTACH;FMTTYPE=image/jpeg:https://magzoid.com/wp-content/uploads/2026/03/DIFC-Sculpture-Park_-Enduring-Forms-Cropped.jpg
END:VEVENT
END:VCALENDAR