BEGIN:VCALENDAR
VERSION:2.0
PRODID:-//Magzoid Magazine - ECPv6.15.20//NONSGML v1.0//EN
CALSCALE:GREGORIAN
METHOD:PUBLISH
X-WR-CALNAME:Magzoid Magazine
X-ORIGINAL-URL:https://magzoid.com
X-WR-CALDESC:Events for Magzoid Magazine
REFRESH-INTERVAL;VALUE=DURATION:PT1H
X-Robots-Tag:noindex
X-PUBLISHED-TTL:PT1H
BEGIN:VTIMEZONE
TZID:UTC
BEGIN:STANDARD
TZOFFSETFROM:+0000
TZOFFSETTO:+0000
TZNAME:UTC
DTSTART:20230101T000000
END:STANDARD
END:VTIMEZONE
BEGIN:VEVENT
DTSTART;TZID=UTC:20241208T190000
DTEND;TZID=UTC:20241208T190000
DTSTAMP:20260426T013543
CREATED:20241122T084215Z
LAST-MODIFIED:20241122T084215Z
UID:75991-1733684400-1733684400@magzoid.com
SUMMARY:Coke Studio Live
DESCRIPTION:Coke Studio Live is back with its second edition\, ‘UNBOUND\,’ at Coca-Cola Arena on 8th December! Following the phenomenal success of its inaugural show\, this year’s event promises an unforgettable night of music\, featuring a spectacular lineup of South Asia’s legendary artists and rising stars. Fans will witness breathtaking performances of award-winning originals\, innovative remixes\, and soulful contemporary covers. \nCurated by visionary producer Zulfiqar (Xulfi) Jabbar Khan and produced by Giraffe Pakistan and Warner Music South Asia\, the event will feature headliners like Kaifi Khalil\, Hasan Raheem\, Shae Gill\, Zain Zohaib\, Karpe\, Amanda Delara\, Umair Butt\, and many others. With its unique ability to connect audiences across cultures and share the universal message of love\, Coke Studio Live is set to take the stage by storm. \nPart of Dubai Shopping Festival and 321 Festival\, and supported by Dubai Calendar\, this celebration of musical talent is not to be missed. Be a part of this extraordinary journey as Coke Studio Live continues to break boundaries and redefine the global music scene! \nDate:  8 December 2024\nVenue: Coca-Cola Arena\, Dubai\nEvent Website: Event Website\nTo Book Tickets: Get your Tickets now \nWe are happy to support the event as a Media Partner.\nFor PRs: pr@magzoid.com\nPartnerships\, Interviews & Marketing Support: sakshi@magzoid.com\nFor General Queries: info@magzoid.com
URL:https://magzoid.com/event/coke-studio-live-unbound-coca-cola-arena-2024/
LOCATION:Coca-Cola Arena\, Dubai
CATEGORIES:Entertainment
ATTACH;FMTTYPE=image/jpeg:https://magzoid.com/wp-content/uploads/2024/11/Coke-Studio-Social-Static_1080x1080.jpg
END:VEVENT
BEGIN:VEVENT
DTSTART;VALUE=DATE:20241219
DTEND;VALUE=DATE:20241222
DTSTAMP:20260426T013543
CREATED:20241220T095511Z
LAST-MODIFIED:20241220T100122Z
UID:78243-1734566400-1734825599@magzoid.com
SUMMARY:Russian Film Festival
DESCRIPTION:Experience the magic of Russian cinema at the Russian Film Festival in Dubai from December 19th to December 21st\, 2024. Held in the heart of Dubai\, this festival offers free screenings of five captivating films\, including the UAE premiere of the inspiring sports drama Triumph. Enjoy other cinematic masterpieces like The Challenge\, Chebi: My Fluffy Friend\, Guest from the Future\, and The Bremen Town Musicians. Organized by ROSKINO with the support of the Russian Ministry of Culture\, the festival transcends borders with Russian-language films featuring English subtitles\, ensuring a vibrant cultural exchange. Dive into extraordinary storytelling\, meet acclaimed creators like director Mikhail Lukachevsky\, and celebrate the growing success of Russian cinema in the UAE. \nDate:  19-21 December 2024\nVenue: Roxy Cinemas Dubai\, City Walk\nEvent Website: Russian-Film-Festival.com \nFor PRs: pr@magzoid.com\nPartnerships\, Interviews & Marketing Support: sakshi@magzoid.com\nFor General Queries: info@magzoid.com
URL:https://magzoid.com/event/russian-film-festival/
LOCATION:Roxy Cinemas Dubai\, City Walk
CATEGORIES:Entertainment
ATTACH;FMTTYPE=image/png:https://magzoid.com/wp-content/uploads/2024/12/Screenshot-2024-12-20-150927.png
END:VEVENT
BEGIN:VEVENT
DTSTART;TZID=UTC:20241230T200000
DTEND;TZID=UTC:20241230T233000
DTSTAMP:20260426T013543
CREATED:20241209T055505Z
LAST-MODIFIED:20241221T121906Z
UID:77278-1735588800-1735601400@magzoid.com
SUMMARY:DJ Snake Live in Dubai
DESCRIPTION:Get ready for an electrifying night as a global superstar DJ Snake takes center stage at the Coca-Cola Arena on December 30th! Known for chart-topping hits like “Turn Down for What\,” “Taki Taki\,” and “Middle\,” DJ Snake live promises an unforgettable performance. This internationally renowned artist\, with his signature blend of hip-hop\, trap\, and dancehall\, will set the stage ablaze with a high-energy show packed with his latest tracks and iconic hits. \nLocated in the heart of Dubai\, the state-of-the-art Coca-Cola Arena offers cutting-edge acoustics and a vibrant atmosphere\, making it the perfect venue for this pre-New Year celebration. Don’t miss the chance to witness DJ Snake live and kickstart your festivities with a night to remember. Secure your tickets now and be part of this epic experience! \nDate:  30 December 2024\nVenue: Coca-Cola Arena\, Dubai\nEvent Website: Coca-Cola-Arena.com\nFor Tickets: Book Here Now \nWe are happy to support the event as a Media Partner:\nFor PRs: pr@magzoid.com\nPartnerships\, Interviews & Marketing Support: sakshi@magzoid.com\nFor General Queries: info@magzoid.com
URL:https://magzoid.com/event/dj-snake-live-coca-cola-arena/
LOCATION:Coca-Cola Arena\, Dubai
CATEGORIES:Entertainment
ATTACH;FMTTYPE=image/jpeg:https://magzoid.com/wp-content/uploads/2024/12/DJ-Snake-2024_SQ.jpg
END:VEVENT
END:VCALENDAR