BEGIN:VCALENDAR
VERSION:2.0
PRODID:-//Magzoid Magazine - ECPv6.15.20//NONSGML v1.0//EN
CALSCALE:GREGORIAN
METHOD:PUBLISH
X-WR-CALNAME:Magzoid Magazine
X-ORIGINAL-URL:https://magzoid.com
X-WR-CALDESC:Events for Magzoid Magazine
REFRESH-INTERVAL;VALUE=DURATION:PT1H
X-Robots-Tag:noindex
X-PUBLISHED-TTL:PT1H
BEGIN:VTIMEZONE
TZID:UTC
BEGIN:STANDARD
TZOFFSETFROM:+0000
TZOFFSETTO:+0000
TZNAME:UTC
DTSTART:20230101T000000
END:STANDARD
END:VTIMEZONE
BEGIN:VEVENT
DTSTART;VALUE=DATE:20250226
DTEND;VALUE=DATE:20250228
DTSTAMP:20260424T041016
CREATED:20250227T053716Z
LAST-MODIFIED:20250227T053832Z
UID:83852-1740528000-1740700799@magzoid.com
SUMMARY:4th Hospitality Innovation Summit
DESCRIPTION:The 4th Hospitality Innovation Summit 2025 is set to take place in Dubai\, UAE\, bringing together hospitality leaders\, technology innovators\, and industry experts to redefine the future of the hospitality sector. This premier event will explore the latest advancements in smart hospitality\, AI-driven guest experiences\, sustainability\, digital transformation\, and hotel technology solutions. \nAttendees will gain valuable insights from keynote speeches\, expert panel discussions\, and interactive workshops\, covering topics such as contactless technologies\, IoT integration\, revenue management\, and personalized guest services. The event will also feature an exclusive exhibition showcasing cutting-edge hospitality solutions\, offering networking opportunities with industry pioneers and solution providers. \nAs the hospitality industry adapts to evolving consumer expectations and technological advancements\, the Hospitality Innovation Summit 2025 serves as a critical platform for business leaders\, hoteliers\, and technology providers to collaborate\, exchange ideas\, and shape the future of modern hospitality. \nDate: 26-27 February 2025\nVenue: Hilton Al Habtoor City\, Dubai\nFor further information visit: Event Website \nWe are happy to support 4th Hospitality Innovation Summit as a Media Partner.\nFor PRs: pr@magzoid.com\nPartnerships\, Interviews & Marketing Support: sakshi@magzoid.com\nFor General Queries: info@magzoid.com
URL:https://magzoid.com/event/4th-hospitality-innovation-summit/
LOCATION:Hilton Al Habtoor City\, Dubai
CATEGORIES:Summit
ATTACH;FMTTYPE=image/jpeg:https://magzoid.com/wp-content/uploads/2025/02/Event-Banner_HIS-Saudi-2025_Header-copy-5.jpg
END:VEVENT
BEGIN:VEVENT
DTSTART;VALUE=DATE:20241114
DTEND;VALUE=DATE:20241116
DTSTAMP:20260424T041016
CREATED:20241029T091524Z
LAST-MODIFIED:20241029T091524Z
UID:73997-1731542400-1731715199@magzoid.com
SUMMARY:IMS Dubai 2024
DESCRIPTION:This November\, IMS Dubai marks its debut as a premier summit dedicated to the electronic music industry’s growth within the MENA region. Recognizing the unique blend of cultural heritage and modern innovation within this area\, IMS Dubai 2024 will provide an exclusive platform for industry stakeholders to explore the intersections of finance\, technology\, and cultural evolution shaping electronic music. \nSet against Dubai’s vibrant backdrop\, the summit will gather pioneering artists\, influential thought leaders\, and decision-makers\, presenting an unprecedented opportunity to engage with key topics such as investment\, funding\, government support\, and entrepreneurship within the electronic music landscape. The summit will delve into emerging business opportunities\, offering insights into the dynamic forces driving growth in the region’s electronic music market. IMS Dubai will foster an environment for learning\, exchange\, and collaboration\, empowering attendees with practical knowledge and a forward-looking view of electronic music’s expansion across MENA. \nA focal point of IMS Dubai is its dedication to celebrating the MENA region’s innovative music culture\, spotlighting trailblazing artists\, collectives\, and cultural visionaries who are elevating electronic music and its global influence. Attendees will gain an enriched understanding of the region’s diverse music scene\, alongside perspectives on how technology and finance are shaping its future. I \nPositioned as a gateway to the future of electronic music\, IMS Dubai will not only serve as a platform for professional development but also as an inspiring celebration of the region’s rich and evolving music culture\, making it an essential event for anyone invested in the future of electronic music. \nDate:  14-15 November\, 2025\nVenue: W Dubai Mina Seyahi\nEvent Website: Event Website\nTo Attend: info@internationalmusicsummit.com\nExhibiting Opportunity: info@internationalmusicsummit.com \nWe are happy to support IMS Dubai 2024 as a Media Partner.\nFor PRs: pr@magzoid.com\nPartnerships\, Interviews & Marketing Support: sakshi@magzoid.com\nFor General Queries: info@magzoid.com
URL:https://magzoid.com/event/ims-dubai-2024/
LOCATION:W Dubai Mina Seyahi
CATEGORIES:Summit
ATTACH;FMTTYPE=image/jpeg:https://magzoid.com/wp-content/uploads/2024/10/IMS-Dubai-2024_14thNov_EventBanner.jpg
END:VEVENT
BEGIN:VEVENT
DTSTART;VALUE=DATE:20240424
DTEND;VALUE=DATE:20240426
DTSTAMP:20260424T041016
CREATED:20240308T104656Z
LAST-MODIFIED:20240309T080644Z
UID:53236-1713916800-1714089599@magzoid.com
SUMMARY:NEXT IN
DESCRIPTION:Explore the forefront of museum innovation and sustainability at the NEXT IN Museums Innovation Impact event\, presented by Acciona Cultura. It will be held at the ACCIONA Campus in Madrid. This summit convenes visionaries from around the globe to delve into the dynamic convergence of different arenas. These include technology\, the arts\, and sustainable practices. \nTo begin with\, NEXT IN provides a unique platform for thought leaders\, museum managers\, architects\, cultural programmers\, and industry professionals. It is a platform which offers an opportunity to exchange ideas and insights. The event focuses on shaping the future of museums\, architecture\, design\, and societal impact. Another key point\, the event aims to foster dialogue on the transformative potential of immersive storytelling\, augmented reality\, artificial intelligence\, and innovative user experiences. \nFeaturing a stellar lineup of speakers and panelists\, attendees at NEXT IN can expect a diverse range of perspectives and expertise. Among the artists presenting are Refik Anadol and Mario Klingeman\, renowned for their groundbreaking work in interactive art. Additionally\, architects like Paola Cattarin of Zaha Hadid Architects will offer insights into innovative architectural design. Furthermore\, representatives from esteemed institutions like Qatar Museums\, Louvre Abu Dhabi\, V&A\, and the Prado Museum will also share their insights on global cultural trends and best practices. \nNotably\, the summit will be Moderated by acclaimed figures such as Michael Kimmelman\, András Szántó\, Karen Exell\, and Ludovic Assémat. Surely\, the event promises engaging keynote speeches\, insightful interviews\, and interactive roundtable discussions. Above all\, attendees will have the opportunity to explore groundbreaking projects shaping public spaces worldwide\, offering inspiration and practical insights for future endeavors. \nThe ACCIONA Campus\, predominantly renowned for its commitment to innovation and sustainability\, provides an ideal setting for this forward-thinking event. With dynamic spaces bathed in natural light and adorned with greenery\, the campus\, undoubtedly\, reflects Acciona’s dedication to creating regenerative solutions for a decarbonized economy. \nBe part of this unparalleled gathering of minds driving the future of museums and cultural innovation. \nDate: 24 – 25 April\, 2024\nVenue: ACCIONA Campus\, Gran Vía de Hortaleza 3\, Madrid\, Spain\nEvent Website: NEXT IN\nTo Attend: Get Tickets Now \nWe are happy to support NEXT IN as a Media Partner.\nFor PRs: pr@magzoid.com\nPartnerships\, Interviews & Marketing Support: sakshi@magzoid.com\nFor General Queries: info@magzoid.com
URL:https://magzoid.com/event/next-in-museums-innovation-impact-event-acciona-cultura-madrid/
LOCATION:ACCIONA Campus\, Madrid\, Spain
CATEGORIES:Summit
ATTACH;FMTTYPE=image/jpeg:https://magzoid.com/wp-content/uploads/2024/03/Banner_1200x627-NEXTIN_ING.jpg
END:VEVENT
END:VCALENDAR