BEGIN:VCALENDAR
VERSION:2.0
PRODID:-//Magzoid Magazine - ECPv6.15.20//NONSGML v1.0//EN
CALSCALE:GREGORIAN
METHOD:PUBLISH
X-WR-CALNAME:Magzoid Magazine
X-ORIGINAL-URL:https://magzoid.com
X-WR-CALDESC:Events for Magzoid Magazine
REFRESH-INTERVAL;VALUE=DURATION:PT1H
X-Robots-Tag:noindex
X-PUBLISHED-TTL:PT1H
BEGIN:VTIMEZONE
TZID:UTC
BEGIN:STANDARD
TZOFFSETFROM:+0000
TZOFFSETTO:+0000
TZNAME:UTC
DTSTART:20200101T000000
END:STANDARD
END:VTIMEZONE
BEGIN:VEVENT
DTSTART;TZID=UTC:20211017T100000
DTEND;TZID=UTC:20211119T170000
DTSTAMP:20260425T153428
CREATED:20210913T092203Z
LAST-MODIFIED:20210913T092203Z
UID:7695-1634464800-1637341200@magzoid.com
SUMMARY:Marketing Mania 2021
DESCRIPTION:A captivating learning experience\, which will bring together the brightest and most forward-thinking CMOs\, brand strategists\, creative directors\, and heads of marketing from the marketing\, business\, and beyond worlds. Gain leading-edge insight\, inspiration\, and the lessons needed to meet the challenges ahead. \nBe a part of the one event where you can learn from the best in the marketing community and spend four days with our #MarketingMania community
URL:https://magzoid.com/event/marketing-mania-2021/
LOCATION:Dubai World Trade Center \, Dubai\, United Arab Emirates
CATEGORIES:Exhibition
ATTACH;FMTTYPE=image/jpeg:https://magzoid.com/wp-content/uploads/2021/09/BeFunky-collage-32-1-scaled.jpg
ORGANIZER;CN="Dubai World Trade Centre":MAILTO:info@dwtc.com
END:VEVENT
BEGIN:VEVENT
DTSTART;TZID=UTC:20211013T090000
DTEND;TZID=UTC:20211016T180000
DTSTAMP:20260425T153428
CREATED:20210913T091417Z
LAST-MODIFIED:20210913T091431Z
UID:7689-1634115600-1634407200@magzoid.com
SUMMARY:Abu Dhabi International Boat Show 2021
DESCRIPTION:Abu Dhabi International Boat Show is unique to Abu Dhabi and the region; it caters to all marine industry professionals and the whole family seeking a great day out or a weekend. \nAbu Dhabi International Boat Show is the perfect platform to discover the latest ways to enjoy all aspects of Marine leisure and water sports in and around Abu Dhabi\, with a whole range of opportunities to get out on the water.
URL:https://magzoid.com/event/abu-dhabi-international-boat-show-2021/
LOCATION:Abu Dhabi National Exhibition Centre\, Abu Dhabi\, United Arab Emirates
CATEGORIES:Exhibition
ATTACH;FMTTYPE=image/jpeg:https://magzoid.com/wp-content/uploads/2021/09/adibs.jpeg
ORGANIZER;CN="Abu Dhabi National Exhibitions Company":MAILTO:customer.services@adnec.ae
END:VEVENT
BEGIN:VEVENT
DTSTART;TZID=UTC:20211005T100000
DTEND;TZID=UTC:20211009T200000
DTSTAMP:20260425T153428
CREATED:20211007T060822Z
LAST-MODIFIED:20211007T060822Z
UID:8704-1633428000-1633809600@magzoid.com
SUMMARY:Watch and Jewellery Middle East Show
DESCRIPTION:Showcasing the latest designs and trends in watches\, gold\, precious stones\, and diamonds.
URL:https://magzoid.com/event/watch-and-jewellery-middle-east-show/
LOCATION:Sharjah Expo Centre\, Sharjah\, United Arab Emirates
CATEGORIES:Exhibition
ATTACH;FMTTYPE=image/jpeg:https://magzoid.com/wp-content/uploads/2021/10/151009806_3556988184354609_5052231339875093875_n.jpg
ORGANIZER;CN="Sharjah Expo Centre":MAILTO:info@expo-centre.ae
END:VEVENT
BEGIN:VEVENT
DTSTART;TZID=UTC:20211005T100000
DTEND;TZID=UTC:20211007T180000
DTSTAMP:20260425T153428
CREATED:20210913T074804Z
LAST-MODIFIED:20210913T090535Z
UID:7616-1633428000-1633629600@magzoid.com
SUMMARY:Beautyworld Middle East 2021
DESCRIPTION:The 25th edition of Beautyworld Middle East will take place from 5 – 7 October 2021 at the Dubai World Trade Centre. The upcoming show will host exhibitors from 54 countries and 17 dedicated country pavilions\, making it the first truly international beauty event of the year. \nBusinesses all over the world are eager to reconnect and discover the trends that are shaping the beauty industry in a post-pandemic world\, and Dubai is the destination. We remain committed to connecting businesses worldwide once again\, and to do it safely. \nIt’s time to reconnect with the international beauty community at Beautyworld Middle East 2021!
URL:https://magzoid.com/event/beautyworld-middle-east-2021/
LOCATION:Dubai World Trade Center \, Dubai\, United Arab Emirates
CATEGORIES:Exhibition
ATTACH;FMTTYPE=image/jpeg:https://magzoid.com/wp-content/uploads/2021/09/BeFunky-collage-31-3-scaled.jpg
ORGANIZER;CN="Messe Frankfurt":MAILTO:info@uae.messefrankfurt.com
END:VEVENT
BEGIN:VEVENT
DTSTART;TZID=UTC:20211001T100000
DTEND;TZID=UTC:20220331T020000
DTSTAMP:20260425T153428
CREATED:20211031T113645Z
LAST-MODIFIED:20211031T113645Z
UID:9492-1633082400-1648692000@magzoid.com
SUMMARY:Expo 2020 Dubai
DESCRIPTION:A World Expo that inspires people by showcasing the best of collaboration and innovation from around the world.\nConnecting Minds\, Creating the Future. #Expo2020
URL:https://magzoid.com/event/expo-2020-dubai/
LOCATION:Expo 2020\, Dubai\, United Arab Emirates
CATEGORIES:Entertainment,Exhibition
ATTACH;FMTTYPE=image/jpeg:https://magzoid.com/wp-content/uploads/2021/10/244443668_6842382922442164_2977579506866314461_n.jpg
END:VEVENT
BEGIN:VEVENT
DTSTART;TZID=UTC:20210928T100000
DTEND;TZID=UTC:20210930T180000
DTSTAMP:20260425T153428
CREATED:20210913T085825Z
LAST-MODIFIED:20210913T090525Z
UID:7679-1632823200-1633024800@magzoid.com
SUMMARY:Light Middle East Exhibition 2021
DESCRIPTION:The 15th edition of Light Middle East is set to illuminate the region’s lighting industry with a spectacular array of exhibitors and an outstanding line-up of conference speakers. \nThe three-day event offers a comprehensive interactive platform for manufacturers\, architects\, designers\, consultants\, engineers\, construction companies\, hospitality industry professionals\, government officials\, and more; the opportunity to learn from industry leaders at the THINKLIGHT conference; and a night of celebrating the region’s outstanding lighting projects and products at the Light Middle East Awards.
URL:https://magzoid.com/event/light-middle-east-exhibition-2021/
LOCATION:Dubai World Trade Center \, Dubai\, United Arab Emirates
CATEGORIES:Exhibition
ATTACH;FMTTYPE=image/jpeg:https://magzoid.com/wp-content/uploads/2021/09/light.jpg
ORGANIZER;CN="Messe Frankfurt":MAILTO:info@uae.messefrankfurt.com
END:VEVENT
BEGIN:VEVENT
DTSTART;TZID=UTC:20210927T110000
DTEND;TZID=UTC:20211003T220000
DTSTAMP:20260425T153428
CREATED:20210913T082647Z
LAST-MODIFIED:20210913T090531Z
UID:7654-1632740400-1633298400@magzoid.com
SUMMARY:Abu Dhabi International Hunting and Equestrian Exhibition 2021
DESCRIPTION:The Abu Dhabi International Hunting & Equestrian Exhibition (ADIHEX) is the Middle East and Africa’s largest annual event dedicated to the sectors of hunting\, equestrian and the promotion and preservation of cultural heritage. Under the patronage of His Highness Sheikh Hamdan bin Zayed Al Nahyan\, The Ruler’s Representative of the Al Dhafra Region & Chairman of the Emirates Falconers’ Club\, ADIHEX will take place its 18th edition on 27 Sep – 03 Oct 2021 at Abu Dhabi National Exhibition Centre (ADNEC)\, Abu Dhabi\, United Arab Emirates. \nADIHEX is now transforming into an iconic global platform bringing together thousands of local and international hunters\, end users\, traders\, high net-worth individuals\, VVIPs and dignitaries from around the world and Ruler’s and Royal Family of the UAE and other GCC countries. In 2019 edition\, over 115\,000 attendees were on the lookout for the latest product innovations and services in all 11 sectors of the event making it an unrivalled platform to launch products\, expand your business or identify distributors and partners in the MEA region. \nThe 18th edition of ADIHEX is set to be bigger and better covering the following eleven dedicated sectors: \n\nHunting Guns\nHunting Equipment (Archery/Knives/Optics)\nFalconry\nEquestrian\nPromotion & Preservation of Environmental Cultural Heritage\nArts & Crafts\nOutdoor Leisure Vehicle & Equipment\nSports Fishing & Marine Sports\nVeterinary & Pharmaceutical Products & Services\nHunting Tourism & Safari\nMedia
URL:https://magzoid.com/event/abu-dhabi-international-hunting-and-equestrian-exhibition-2021/
LOCATION:Abu Dhabi National Exhibition Centre\, Abu Dhabi\, United Arab Emirates
CATEGORIES:Exhibition
ATTACH;FMTTYPE=image/jpeg:https://magzoid.com/wp-content/uploads/2021/09/adihex.jpg
ORGANIZER;CN="Emirates Falconers' Club":MAILTO:info@adihex.com
END:VEVENT
BEGIN:VEVENT
DTSTART;TZID=UTC:20210912T110000
DTEND;TZID=UTC:20210915T210000
DTSTAMP:20260425T153428
CREATED:20210913T080335Z
LAST-MODIFIED:20210913T090533Z
UID:7636-1631444400-1631739600@magzoid.com
SUMMARY:Urban Design & Landscaping Expo 2021
DESCRIPTION:The region’s premier event for the landscaping\, infrastructure\, and urban development industries. As the only specialized trade event in the Middle East for these industries\, the event will have a dedicated focus on the design\, construction\, and maintenance of urban and green spaces\, sports grounds\, and playgrounds.
URL:https://magzoid.com/event/urban-design-landscaping-expo-2021/
LOCATION:Dubai World Trade Center \, Dubai\, United Arab Emirates
CATEGORIES:Exhibition
ATTACH;FMTTYPE=image/jpeg:https://magzoid.com/wp-content/uploads/2021/09/urban-1-scaled.jpg
ORGANIZER;CN="dmg events":MAILTO:dmgdubai@dmgeventsme.com
END:VEVENT
END:VCALENDAR