BEGIN:VCALENDAR
VERSION:2.0
PRODID:-//Magzoid Magazine - ECPv6.15.20//NONSGML v1.0//EN
CALSCALE:GREGORIAN
METHOD:PUBLISH
X-WR-CALNAME:Magzoid Magazine
X-ORIGINAL-URL:https://magzoid.com
X-WR-CALDESC:Events for Magzoid Magazine
REFRESH-INTERVAL;VALUE=DURATION:PT1H
X-Robots-Tag:noindex
X-PUBLISHED-TTL:PT1H
BEGIN:VTIMEZONE
TZID:UTC
BEGIN:STANDARD
TZOFFSETFROM:+0000
TZOFFSETTO:+0000
TZNAME:UTC
DTSTART:20230101T000000
END:STANDARD
END:VTIMEZONE
BEGIN:VEVENT
DTSTART;VALUE=DATE:20240905
DTEND;VALUE=DATE:20240908
DTSTAMP:20260425T214202
CREATED:20240802T122524Z
LAST-MODIFIED:20240803T081923Z
UID:66215-1725494400-1725753599@magzoid.com
SUMMARY:Kiaf SEOUL
DESCRIPTION:Kiaf SEOUL is South Korea’s first international art fair which opened in 2002. With the rapid growth of Seoul as a global art city\, Kiaf SEOUL is also evolving quickly to exceed market standards. Seoul has become a vibrant art hub in the global art market\, where art connects people to provide unforgettable memories. With 20 years of history\, Kiaf SEOUL presented traditional and contemporary art in one place as a bridge to connect the Korean art market and the global art market. Kiaf SEOUL will continue to serve as a global platform to host a festival full of art. \nDate: 5-7 September 2024\nVenue: Seoul\, South Korea\nFor further information visit: Event Website \nPlease feel free to reach out if you need any help:\nFor PRs: pr@thefinanceworld.com\nPartnerships\, Interviews & Marketing Support: ashish@magzoid.com\nFor General Queries: info@thefinanceworld.com
URL:https://magzoid.com/event/kiaf-seoul-2024/
LOCATION:Seoul\, South Korea
CATEGORIES:Art Festival,Exhibition
ATTACH;FMTTYPE=image/jpeg:https://magzoid.com/wp-content/uploads/2024/08/10.-Magzoid-Event-listing.jpg
END:VEVENT
BEGIN:VEVENT
DTSTART;TZID=UTC:20240908T173000
DTEND;TZID=UTC:20240908T230000
DTSTAMP:20260425T214202
CREATED:20240902T131041Z
LAST-MODIFIED:20240902T134651Z
UID:68864-1725816600-1725836400@magzoid.com
SUMMARY:Sonu Sharma Live in Dubai
DESCRIPTION:For the first time\, catch SONU SHARMA LIVE IN DUBAI\, on the 8th of September at Dubai College from 6 pm onwards. He is one of the most influential motivational speakers cum corporate trainers\, from India who is known to captivate his audiences with his zestful sessions. He is known to educate people on various topics such as financial management\, life engineering\, asset building\, etc. Come and witness pure energy in the form of an informative session\, and his stage presence will surely blow you away. \nDate: 08 September 2024\nVenue: Dubai Auditorium\, Dubai College\nTimings: Gates Open at 5:30 pm and Event Starts at 6pm\nGet your tickets now: Event Website \nPlease feel free to reach out if you need any help:\nFor PRs: pr@magzoid.com\nPartnerships\, Interviews & Marketing Support: ashish@magzoid.com\nFor General Queries: info@magzoid.com
URL:https://magzoid.com/event/sonu-sharma-live-in-dubai/
LOCATION:Dubai Auditorium\, Dubai College\, Dubai\, United Arab Emirates
CATEGORIES:Entertainment
ATTACH;FMTTYPE=image/png:https://magzoid.com/wp-content/uploads/2024/09/Website-event-listing-1600X900.png
END:VEVENT
END:VCALENDAR