BEGIN:VCALENDAR
VERSION:2.0
PRODID:-//Magzoid Magazine - ECPv6.15.20//NONSGML v1.0//EN
CALSCALE:GREGORIAN
METHOD:PUBLISH
X-WR-CALNAME:Magzoid Magazine
X-ORIGINAL-URL:https://magzoid.com
X-WR-CALDESC:Events for Magzoid Magazine
REFRESH-INTERVAL;VALUE=DURATION:PT1H
X-Robots-Tag:noindex
X-PUBLISHED-TTL:PT1H
BEGIN:VTIMEZONE
TZID:UTC
BEGIN:STANDARD
TZOFFSETFROM:+0000
TZOFFSETTO:+0000
TZNAME:UTC
DTSTART:20240101T000000
END:STANDARD
END:VTIMEZONE
BEGIN:VEVENT
DTSTART;TZID=UTC:20250503T190000
DTEND;TZID=UTC:20250503T220000
DTSTAMP:20260424T092551
CREATED:20250501T142834Z
LAST-MODIFIED:20250501T142920Z
UID:89794-1746298800-1746309600@magzoid.com
SUMMARY:Gabriel Iglesias' - Don't Worry Be Fluffy at Etihad Arena in Abu Dhabi
DESCRIPTION:Abu Dhabi is set to become the region’s laughter capital this May as global comedy powerhouses Gabriel “Fluffy” Iglesias and Jo Koy headline the Abu Dhabi Comedy Season\, promising unforgettable nights of top-tier entertainment. Known for drawing massive international audiences\, both comedians bring their unique styles to the UAE stage—Fluffy with his animated storytelling and vocal effects\, and Jo Koy with his sharp observational humour and family-inspired wit. For comedy fans across the region\, this is a rare chance to experience world-class stand-up without leaving the country. \nEvents like the Abu Dhabi Comedy Season provide more than entertainment—they offer a cultural platform where diverse audiences connect over shared experiences\, creating a sense of community that digital platforms often lack. These live performances allow fans to enjoy comedy in its most authentic form\, building lasting memories and energising the entertainment scene in the capital. \nHaving built a reputation for hosting high-calibre talent\, the Abu Dhabi Comedy Season continues to be a must-attend event for those seeking quality entertainment. It contributes significantly to the city’s growing appeal as a regional entertainment hub while offering unmatched opportunities for global performers to engage with Middle Eastern audiences. Presented by Blu Blood\, this season promises to elevate Abu Dhabi’s comedy credentials even further. \nDate: 3 May\, 2025\nVenue: Etihad Arena\, Abu Dhabi\nEvent Website: etihadarena.ae\nBuy Tickets: Buy Now\nExhibiting Opportunity: Book a Stand \nWe are happy to support Gabriel Iglesias’ – Don’t Worry Be Fluffy as a Media Partner.\nFor PR Inquiries: pr@magzoid.com\nPartnerships\, Interviews & Marketing Support: sakshi@magzoid.com\nFor General Queries: info@magzoid.com
URL:https://magzoid.com/event/gabriel-iglesias-abu-dhabi-comedy-season-2025/
CATEGORIES:Entertainment
ATTACH;FMTTYPE=image/jpeg:https://magzoid.com/wp-content/uploads/2025/05/1200x628.jpg
END:VEVENT
BEGIN:VEVENT
DTSTART;TZID=UTC:20250520T080000
DTEND;TZID=UTC:20250522T170000
DTSTAMP:20260424T092551
CREATED:20250513T135716Z
LAST-MODIFIED:20250515T121838Z
UID:90698-1747728000-1747933200@magzoid.com
SUMMARY:Saudi Light & Sound (SLS) Expo
DESCRIPTION:Returning for its 4th edition\, the Saudi Light & Sound (SLS) Expo is the must-attend event for industry professionals looking to source the latest technology\, forge new partnerships\, and stay ahead in the region’s rapidly growing pro audio\, lighting\, and AV industry.\nFrom advanced lighting systems and immersive sound solutions to cutting-edge stage production and AV innovations\, SLS Expo brings together a global network of leading suppliers\, key buyers\, investors\, and decision-makers\, all in one place.\nJoin thousands of professionals and explore the latest innovations\, business opportunities\, and market trends in Saudi Arabia’s thriving entertainment landscape.\nRegister for free to attend!\nFor more information\, contact marketing@saudilightandsoundexpo.com
URL:https://magzoid.com/event/saudi-light-sound-expo-2025-audio-av-tech/
CATEGORIES:Expo
ATTACH;FMTTYPE=image/jpeg:https://magzoid.com/wp-content/uploads/2025/05/GqfcCpvWsAA3xGn-1.jpg
ORGANIZER;CN="dmg events":MAILTO:dmgdubai@dmgeventsme.com
END:VEVENT
BEGIN:VEVENT
DTSTART;TZID=UTC:20250527T100000
DTEND;TZID=UTC:20250529T180000
DTSTAMP:20260424T092551
CREATED:20250513T120416Z
LAST-MODIFIED:20250513T120416Z
UID:90683-1748340000-1748541600@magzoid.com
SUMMARY:INDEX
DESCRIPTION:30 years strong\, INDEX is the meeting place for the global interior design industry.\nSituated in one of the most accessible locations in the world – Dubai\, INDEX provides a central hub for buyers from across the Middle East and Northern Africa to connect with global brands at scale. Nowhere else can buyers have as much selection of premium products and innovative solutions from a range of global suppliers and manufacturers. The sheer breadth and scale of INDEX provides one space to network\, do business and learn the latest trends. \nDate: 27 -29 May 2025\nVenue: Hall 2-8 I Trade Centre Arena\, Dubai World Trade Centre\nTime: 10:00AM – 18:00PM
URL:https://magzoid.com/event/index-dubai-interior-design-trade-show-2025/
LOCATION:Hall 2-8 I Trade Centre Arena\, Dubai World Trade Centre\, United Arab Emirates
CATEGORIES:Exhibition
ORGANIZER;CN="dmg events":MAILTO:dmgdubai@dmgeventsme.com
END:VEVENT
BEGIN:VEVENT
DTSTART;TZID=UTC:20250527T100000
DTEND;TZID=UTC:20250529T180000
DTSTAMP:20260424T092551
CREATED:20250513T120919Z
LAST-MODIFIED:20250513T120919Z
UID:90686-1748340000-1748541600@magzoid.com
SUMMARY:The Hotel Show
DESCRIPTION:The Hotel Show continues to be the flagship event for hospitality and F&B professionals across MENA. This year\, the event reaches new heights with an enhanced focus on HITEC MENA\, a dedicated event for hospitality technology and a fully reimagined Wellness sector\, bringing together the very best in hospitality operations\, game-changing technology\, and wellness innovation. It’s the ultimate platform to source everything your hospitality and F&B business needs to thrive. \nDate: 27 -29 May 2025\nVenue: Sheikh Saeed Halls 1 -3 I Dubai World Trade Centre\nTime: 10:00AM – 18:00PM \nRegister here: https://register.thehotelshow.com/?utm_source=media-partner&utm_medium=website&utm_campaign=event-listing-media-partner-magzoid&utm_content=&utm_term=
URL:https://magzoid.com/event/hotel-show-dubai-2025-hospitality-fnb-event/
LOCATION:Sheikh Saeed Halls 1 -3 I Dubai World Trade Centre\, United Arab Emirates
CATEGORIES:Exhibition
ORGANIZER;CN="dmg events":MAILTO:dmgdubai@dmgeventsme.com
END:VEVENT
BEGIN:VEVENT
DTSTART;TZID=UTC:20250527T100000
DTEND;TZID=UTC:20250529T180000
DTSTAMP:20260424T092551
CREATED:20250513T122620Z
LAST-MODIFIED:20250513T122620Z
UID:90690-1748340000-1748541600@magzoid.com
SUMMARY:WORKSPACE
DESCRIPTION:WORKSPACE is the central hub for the Workspace community.\nWORKSPACE is the ultimate hub for the workspace community. Held in the highly accessible city of Dubai\, this destination event showcases the latest and greatest in global products\, design\, and technology\, all under one roof. Buyers can explore an unmatched selection of products\, from high volume to premium assortments. Transform your workspace with cutting-edge innovation\, design\, and technology. \nDate: 27th -29th May 2025\nVenue: Hall 1; Dubai World Trade Centre\nTime: 10:00 AM – 18:00 PM \nRegister Here: https://register.workspaceexhibition.com/?utm_source=media-partner&utm_medium=website&utm_campaign=event-listing-media-partner-magzoid&utm_content=&utm_term=
URL:https://magzoid.com/event/workspace-dubai-2025-office-design-technology/
LOCATION:Hall 1; Dubai World Trade Centre\, United Arab Emirates
ORGANIZER;CN="dmg events":MAILTO:dmgdubai@dmgeventsme.com
END:VEVENT
END:VCALENDAR