BEGIN:VCALENDAR
VERSION:2.0
PRODID:-//Magzoid Magazine - ECPv6.15.20//NONSGML v1.0//EN
CALSCALE:GREGORIAN
METHOD:PUBLISH
X-ORIGINAL-URL:https://magzoid.com
X-WR-CALDESC:Events for Magzoid Magazine
REFRESH-INTERVAL;VALUE=DURATION:PT1H
X-Robots-Tag:noindex
X-PUBLISHED-TTL:PT1H
BEGIN:VTIMEZONE
TZID:UTC
BEGIN:STANDARD
TZOFFSETFROM:+0000
TZOFFSETTO:+0000
TZNAME:UTC
DTSTART:20250101T000000
END:STANDARD
END:VTIMEZONE
BEGIN:VEVENT
DTSTART;VALUE=DATE:20260302
DTEND;VALUE=DATE:20260401
DTSTAMP:20260425T132842
CREATED:20260302T161344Z
LAST-MODIFIED:20260302T161344Z
UID:107746-1772409600-1775001599@magzoid.com
SUMMARY:The Little Things DIFC pop-up
DESCRIPTION:Taking place at Gate Avenue at DIFC\, within the Dubai International Financial Centre\, The Little Things brings its world of authentic collectibles to the heart of Dubai\, inviting fans of all ages to reconnect with nostalgia and discover new fandoms. \nFrom iconic childhood favourites to carefully sourced global collectibles\, each piece is thoughtfully selected to spark emotion\, connection\, and joy. The pop-up celebrates the culture of collecting through a curated mix of familiar memories and new discoveries drawn from international fandom communities. \nGuided by the brand’s mantra\, “Unlock worlds you’ve never seen”\, the experience offers a fresh perspective on collecting—where storytelling\, design\, and community come together in a welcoming and playful retail environment. Fans\, seasoned collectors\, and first-time visitors are invited to explore a space created to inspire curiosity\, connection\, and shared moments. \nOpen daily until: 31 March 2026Venue: Gate Avenue\, Dubai International Financial Centre (DIFC)\, Dubai \nPlease feel free to reach out if you need any help:\nFor PRs: ayushi@mcfillmedia.com\nPartnerships\, Interviews & Marketing Support: ashish@mcfillmedia.com\nFor General Queries: info@thefinanceworld.com
URL:https://magzoid.com/event/the-little-things-difc-pop-up/
LOCATION:Dubai International Financial Centre\, Dubai\, United Arab Emirates
CATEGORIES:Event
ATTACH;FMTTYPE=image/jpeg:https://magzoid.com/wp-content/uploads/2026/03/Screenshot-842-Cropped-1.jpg
END:VEVENT
END:VCALENDAR