BEGIN:VCALENDAR
VERSION:2.0
PRODID:-//Magzoid Magazine - ECPv6.15.20//NONSGML v1.0//EN
CALSCALE:GREGORIAN
METHOD:PUBLISH
X-ORIGINAL-URL:https://magzoid.com
X-WR-CALDESC:Events for Magzoid Magazine
REFRESH-INTERVAL;VALUE=DURATION:PT1H
X-Robots-Tag:noindex
X-PUBLISHED-TTL:PT1H
BEGIN:VTIMEZONE
TZID:UTC
BEGIN:STANDARD
TZOFFSETFROM:+0000
TZOFFSETTO:+0000
TZNAME:UTC
DTSTART:20240101T000000
END:STANDARD
END:VTIMEZONE
BEGIN:VEVENT
DTSTART;TZID=UTC:20250909T160000
DTEND;TZID=UTC:20250911T220000
DTSTAMP:20260424T164728
CREATED:20250703T132923Z
LAST-MODIFIED:20250703T132923Z
UID:94759-1757433600-1757628000@magzoid.com
SUMMARY:Lighting Design & Technology Expo to Illuminate Saudi Market in September 2025
DESCRIPTION:Set to take place from 9 to 11 September 2025\, the Lighting Design & Technology Expo will serve as a premier sourcing and networking hub for lighting professionals across Saudi Arabia. As the Kingdom advances its smart city ambitions and giga-projects under Vision 2030\, the demand for cutting-edge lighting solutions has grown significantly. \nThe expo provides a focused platform for global lighting solution providers to showcase the latest innovations and technologies. It will bring together regional designers\, consultants\, integrators\, architects\, interior designers\, and industry leaders to explore high-quality products tailored for future-forward projects. \nDate:  9 to 11 September 2025\nVenue: RIYADH FRONT EXHIBITION & CONFERENCE CENTER\nEvent Website: Event Website \nWe are happy to support BeautyEurasia 2025 as a Media Partner.\nFor PRs: pr@magzoid.com\nPartnerships\, Interviews & Marketing Support: sakshi@magzoid.com\nFor General Queries: info@magzoid.com
URL:https://magzoid.com/event/lighting-design-technology-expo-to-illuminate-saudi-market-in-september-2025/
LOCATION:Riyadh Front Exhibition & Conference Center
CATEGORIES:Event
ATTACH;FMTTYPE=image/png:https://magzoid.com/wp-content/uploads/2025/07/Logo-LDT-Expo-01-1-1-scaled.png
END:VEVENT
END:VCALENDAR